BEGIN:VCALENDAR
VERSION:2.0
PRODID:-//Motor Antic Garrotxa - ECPv6.15.20//NONSGML v1.0//EN
CALSCALE:GREGORIAN
METHOD:PUBLISH
X-WR-CALNAME:Motor Antic Garrotxa
X-ORIGINAL-URL:https://motoranticgarrotxa.cat
X-WR-CALDESC:Esdeveniments per Motor Antic Garrotxa
REFRESH-INTERVAL;VALUE=DURATION:PT1H
X-Robots-Tag:noindex
X-PUBLISHED-TTL:PT1H
BEGIN:VTIMEZONE
TZID:Europe/Madrid
BEGIN:DAYLIGHT
TZOFFSETFROM:+0100
TZOFFSETTO:+0200
TZNAME:CEST
DTSTART:20250330T010000
END:DAYLIGHT
BEGIN:STANDARD
TZOFFSETFROM:+0200
TZOFFSETTO:+0100
TZNAME:CET
DTSTART:20251026T010000
END:STANDARD
BEGIN:DAYLIGHT
TZOFFSETFROM:+0100
TZOFFSETTO:+0200
TZNAME:CEST
DTSTART:20260329T010000
END:DAYLIGHT
BEGIN:STANDARD
TZOFFSETFROM:+0200
TZOFFSETTO:+0100
TZNAME:CET
DTSTART:20261025T010000
END:STANDARD
BEGIN:DAYLIGHT
TZOFFSETFROM:+0100
TZOFFSETTO:+0200
TZNAME:CEST
DTSTART:20270328T010000
END:DAYLIGHT
BEGIN:STANDARD
TZOFFSETFROM:+0200
TZOFFSETTO:+0100
TZNAME:CET
DTSTART:20271031T010000
END:STANDARD
END:VTIMEZONE
BEGIN:VEVENT
DTSTART;VALUE=DATE:20260426
DTEND;VALUE=DATE:20260427
DTSTAMP:20260422T125715
CREATED:20260113T144830Z
LAST-MODIFIED:20260409T090123Z
UID:4342-1777161600-1777247999@motoranticgarrotxa.cat
SUMMARY:PETITES GRANS MOTOS (fins a 250cc)
DESCRIPTION:Només s’admeten motos de 30 anys o més i de fins a 250cc \nHi haurà furgoneta amb remolc per si algun motorista té una averia i així poder retirar la moto de la carretera. Cal anar ben documentat\, amb les assegurances i ITV en vigor. \n📍 Olot\n📅 diumenge 26 d’abril 2026\n💰 Preu: 50€ socis – 60€ no socis (inclou esmorzar\, dinar i servei de transport) \n🗓 PROGRAMA\n🕘 8.00 h – Concentració de motos al supermercat Aldi d’Olot\n🛣 8.30 h – Ruta per La Garrotxa\, el Ripollès i l’Empordà \n⚠️ MOLT IMPORTANT\n📲 Cal inscripció prèvia per WhatsApp al 689 755 113\, indicant el nom i cognom\, model de moto i el número de persones participants.\n🗓 Inscripcions obertes fins el dimecres 22 d’abril. Places limitades \n🔥 No hi falteu! Us hi esperem!
URL:https://motoranticgarrotxa.cat/esdeveniment/petites-grans-motos/
END:VEVENT
BEGIN:VEVENT
DTSTART;TZID=Europe/Madrid:20260501T080000
DTEND;TZID=Europe/Madrid:20260501T170000
DTSTAMP:20260422T125715
CREATED:20260113T145011Z
LAST-MODIFIED:20260409T090251Z
UID:4346-1777622400-1777654800@motoranticgarrotxa.cat
SUMMARY:MONOGRÀFIC FIRA 1 MAIG - 80è Aniversari VESPA
DESCRIPTION:Amb motiu de la celebració del 80è Aniversari de la Vespa\, ens complau informar-vos que aquest any el monogràfic que presentarem a la Fira de l’1 de maig a Olot serà dedicat a aquest icònic vehicle. \nPer tal de fer d’aquesta trobada un esdeveniment únic i representatiu\, ens agradaria comptar amb la vostra col·laboració. Us convidem a participar-hi aportant la vostra Vespa per a l’exposició.Horari d’exposició: arribada de vehicles abans de les 9h i recollida a partir de les 19h. \nSi esteu interessats/des a col·laborar\, us agrairíem que ens féssiu arribar la següent informació:\n– Model de la Vespa\n– Any de fabricació\n– Una fotografia del vehicle\nPodeu enviar-nos aquestes dades al mòbil del club per WhatsApp (689 755 113) a la major brevetat possible per tal de poder organitzar correctament l’exposició.\nMoltes gràcies per la vostra col·laboració.
URL:https://motoranticgarrotxa.cat/esdeveniment/monografic-fira-1-maig-80e-aniversari-vespa/
END:VEVENT
BEGIN:VEVENT
DTSTART;VALUE=DATE:20260503
DTEND;VALUE=DATE:20260504
DTSTAMP:20260422T125715
CREATED:20260113T145045Z
LAST-MODIFIED:20260415T061314Z
UID:4348-1777766400-1777852799@motoranticgarrotxa.cat
SUMMARY:TROBADA RENAULT 5
DESCRIPTION:El proper 3 de maig el Motor Antic Garrotxa celebrarà la 14a trobada de R5. \nPrograma:\n– 8.30: concentració de vehicles al Parador de Castellfollit de la Roca. Allà podrem fer un cafè o esmorzar abans de començar la sortida.\n– Ruta per La Garrotxa i l’Empordà + visita al Castell de Sant Ferran\n– 14.00: dinar. \nPreu: 42€/persona (Inclou la visita al Castell i el dinar. L’esmorzar va a càrrec de cadascú). \nMOLT IMPORTANT: cal fer inscripció prèvia abans del dimecres 29 d’abril al WhatsApp del club (689 755 113) indicant la matrícula del vehicle\, el nom i el nombre de persones participants. \nPlaces limitades. S’adjudicaran per ordre d’inscripció.
URL:https://motoranticgarrotxa.cat/esdeveniment/trobada-renault-5-2/
END:VEVENT
BEGIN:VEVENT
DTSTART;VALUE=DATE:20260516
DTEND;VALUE=DATE:20260518
DTSTAMP:20260422T125715
CREATED:20260113T145121Z
LAST-MODIFIED:20260113T145121Z
UID:4350-1778889600-1779062399@motoranticgarrotxa.cat
SUMMARY:ARRIBA COM PUGUIS - OLOT-ANDORRA
DESCRIPTION:
URL:https://motoranticgarrotxa.cat/esdeveniment/arriba-com-puguis-olot-andorra-3/
END:VEVENT
BEGIN:VEVENT
DTSTART;VALUE=DATE:20260627
DTEND;VALUE=DATE:20260629
DTSTAMP:20260422T125715
CREATED:20260113T145153Z
LAST-MODIFIED:20260113T145153Z
UID:4352-1782518400-1782691199@motoranticgarrotxa.cat
SUMMARY:MOTOS DE PRIMAVERA
DESCRIPTION:
URL:https://motoranticgarrotxa.cat/esdeveniment/motos-de-primavera-5/
END:VEVENT
BEGIN:VEVENT
DTSTART;VALUE=DATE:20260712
DTEND;VALUE=DATE:20260713
DTSTAMP:20260422T125715
CREATED:20260113T145229Z
LAST-MODIFIED:20260113T145229Z
UID:4354-1783814400-1783900799@motoranticgarrotxa.cat
SUMMARY:SANT CRISTÒFOL
DESCRIPTION:
URL:https://motoranticgarrotxa.cat/esdeveniment/sant-cristofol-3/
END:VEVENT
BEGIN:VEVENT
DTSTART;VALUE=DATE:20260920
DTEND;VALUE=DATE:20260921
DTSTAMP:20260422T125715
CREATED:20260113T145257Z
LAST-MODIFIED:20260113T145257Z
UID:4356-1789862400-1789948799@motoranticgarrotxa.cat
SUMMARY:ANADA A MARINA
DESCRIPTION:
URL:https://motoranticgarrotxa.cat/esdeveniment/anada-a-marina-4/
END:VEVENT
BEGIN:VEVENT
DTSTART;VALUE=DATE:20261018
DTEND;VALUE=DATE:20261019
DTSTAMP:20260422T125715
CREATED:20260113T145341Z
LAST-MODIFIED:20260113T145341Z
UID:4358-1792281600-1792367999@motoranticgarrotxa.cat
SUMMARY:TROBADA DE TRACTORS CLÀSSICS - FIRA DE SANT LLUC
DESCRIPTION:
URL:https://motoranticgarrotxa.cat/esdeveniment/trobada-de-tractors-classics-fira-de-sant-lluc/
END:VEVENT
BEGIN:VEVENT
DTSTART;VALUE=DATE:20261122
DTEND;VALUE=DATE:20261123
DTSTAMP:20260422T125715
CREATED:20260113T145423Z
LAST-MODIFIED:20260113T145423Z
UID:4360-1795305600-1795391999@motoranticgarrotxa.cat
SUMMARY:SORTIDA 4x4 CLÀSSICS
DESCRIPTION:
URL:https://motoranticgarrotxa.cat/esdeveniment/sortida-4x4-classics/
END:VEVENT
BEGIN:VEVENT
DTSTART;VALUE=DATE:20261213
DTEND;VALUE=DATE:20261214
DTSTAMP:20260422T125715
CREATED:20260113T145503Z
LAST-MODIFIED:20260113T145503Z
UID:4362-1797120000-1797206399@motoranticgarrotxa.cat
SUMMARY:CLOENDA D'ANY I TROBADA SOLIDÀRIA MARATÓ 3Cat
DESCRIPTION:
URL:https://motoranticgarrotxa.cat/esdeveniment/cloenda-dany-i-trobada-solidaria-marato-3cat/
END:VEVENT
END:VCALENDAR